BEGIN:VCALENDAR
VERSION:2.0
PRODID:-//Coquitlam Teachers Association - ECPv6.15.15//NONSGML v1.0//EN
CALSCALE:GREGORIAN
METHOD:PUBLISH
X-ORIGINAL-URL:https://www.coquitlamteachers.com
X-WR-CALDESC:Events for Coquitlam Teachers Association
REFRESH-INTERVAL;VALUE=DURATION:PT1H
X-Robots-Tag:noindex
X-PUBLISHED-TTL:PT1H
BEGIN:VTIMEZONE
TZID:America/Vancouver
BEGIN:DAYLIGHT
TZOFFSETFROM:-0800
TZOFFSETTO:-0700
TZNAME:PDT
DTSTART:20250309T100000
END:DAYLIGHT
BEGIN:STANDARD
TZOFFSETFROM:-0700
TZOFFSETTO:-0800
TZNAME:PST
DTSTART:20251102T090000
END:STANDARD
BEGIN:DAYLIGHT
TZOFFSETFROM:-0800
TZOFFSETTO:-0700
TZNAME:PDT
DTSTART:20260308T100000
END:DAYLIGHT
BEGIN:STANDARD
TZOFFSETFROM:-0700
TZOFFSETTO:-0800
TZNAME:PST
DTSTART:20261101T090000
END:STANDARD
BEGIN:DAYLIGHT
TZOFFSETFROM:-0800
TZOFFSETTO:-0700
TZNAME:PDT
DTSTART:20270314T100000
END:DAYLIGHT
BEGIN:STANDARD
TZOFFSETFROM:-0700
TZOFFSETTO:-0800
TZNAME:PST
DTSTART:20271107T090000
END:STANDARD
END:VTIMEZONE
BEGIN:VEVENT
DTSTART;TZID=America/Vancouver:20260105T080000
DTEND;TZID=America/Vancouver:20260105T153000
DTSTAMP:20260421T015920
CREATED:20250411T225416Z
LAST-MODIFIED:20260131T235539Z
UID:21826-1767600000-1767627000@www.coquitlamteachers.com
SUMMARY:Schools reopen from Winter Break
DESCRIPTION:
URL:https://www.coquitlamteachers.com/event/schools-reopen-from-winter-break/
LOCATION:BC
END:VEVENT
BEGIN:VEVENT
DTSTART;TZID=America/Vancouver:20260107T083000
DTEND;TZID=America/Vancouver:20260108T143000
DTSTAMP:20260421T015920
CREATED:20250411T225133Z
LAST-MODIFIED:20260131T235354Z
UID:21824-1767774600-1767882600@www.coquitlamteachers.com
SUMMARY:New Teacher & TTOC SURT Training
DESCRIPTION:
URL:https://www.coquitlamteachers.com/event/new-teacher-ttoc-surt-training-2/
LOCATION:CTA – big conference room\, #208-2502 St. Johns Street\, Port Moody\, BC\, V3H 2B4\, Canada
END:VEVENT
BEGIN:VEVENT
DTSTART;TZID=America/Vancouver:20260114T083000
DTEND;TZID=America/Vancouver:20260114T143000
DTSTAMP:20260421T015920
CREATED:20250411T224928Z
LAST-MODIFIED:20260131T235116Z
UID:21821-1768379400-1768401000@www.coquitlamteachers.com
SUMMARY:New Teacher & TTOC SURT Training
DESCRIPTION:
URL:https://www.coquitlamteachers.com/event/new-teacher-ttoc-surt-training/
LOCATION:CTA – big conference room\, #208-2502 St. Johns Street\, Port Moody\, BC\, V3H 2B4\, Canada
END:VEVENT
BEGIN:VEVENT
DTSTART;TZID=America/Vancouver:20260114T160000
DTEND;TZID=America/Vancouver:20260114T180000
DTSTAMP:20260421T015920
CREATED:20250411T224750Z
LAST-MODIFIED:20260131T234900Z
UID:21819-1768406400-1768413600@www.coquitlamteachers.com
SUMMARY:CTA Executive Committee Meeting
DESCRIPTION:
URL:https://www.coquitlamteachers.com/event/cta-executive-committee-meeting-7/
LOCATION:CTA – big conference room\, #208-2502 St. Johns Street\, Port Moody\, BC\, V3H 2B4\, Canada
END:VEVENT
BEGIN:VEVENT
DTSTART;TZID=America/Vancouver:20260115T083000
DTEND;TZID=America/Vancouver:20260115T150000
DTSTAMP:20260421T015920
CREATED:20250411T224622Z
LAST-MODIFIED:20260131T234733Z
UID:21817-1768465800-1768489200@www.coquitlamteachers.com
SUMMARY:Health & Safety Reps Training
DESCRIPTION:
URL:https://www.coquitlamteachers.com/event/health-safety-reps-training-2/
LOCATION:CTA – big conference room\, #208-2502 St. Johns Street\, Port Moody\, BC\, V3H 2B4\, Canada
END:VEVENT
BEGIN:VEVENT
DTSTART;TZID=America/Vancouver:20260120T083000
DTEND;TZID=America/Vancouver:20260121T150000
DTSTAMP:20260421T015920
CREATED:20250410T224500Z
LAST-MODIFIED:20260131T234606Z
UID:21814-1768897800-1769007600@www.coquitlamteachers.com
SUMMARY:Health & Safety Reps Training
DESCRIPTION:
URL:https://www.coquitlamteachers.com/event/health-safety-reps-training/
LOCATION:CTA – big conference room\, #208-2502 St. Johns Street\, Port Moody\, BC\, V3H 2B4\, Canada
END:VEVENT
BEGIN:VEVENT
DTSTART;TZID=America/Vancouver:20260121T160000
DTEND;TZID=America/Vancouver:20260121T180000
DTSTAMP:20260421T015920
CREATED:20250411T224313Z
LAST-MODIFIED:20260131T234435Z
UID:21812-1769011200-1769018400@www.coquitlamteachers.com
SUMMARY:CTA Representative Assembly/ General Meeting
DESCRIPTION:
URL:https://www.coquitlamteachers.com/event/cta-representative-assembly-general-meeting-2/
LOCATION:Montgomery Centre\, 380 Montgomery Street\, Coquitlam\, BC\, V3K 5G2\, Canada
END:VEVENT
BEGIN:VEVENT
DTSTART;TZID=America/Vancouver:20260128T160000
DTEND;TZID=America/Vancouver:20260128T180000
DTSTAMP:20260421T015920
CREATED:20260131T234255Z
LAST-MODIFIED:20260131T234255Z
UID:21810-1769616000-1769623200@www.coquitlamteachers.com
SUMMARY:CTA Executive Committee Meeting
DESCRIPTION:
URL:https://www.coquitlamteachers.com/event/cta-executive-committee-meeting-6/
LOCATION:CTA – big conference room\, #208-2502 St. Johns Street\, Port Moody\, BC\, V3H 2B4\, Canada
END:VEVENT
BEGIN:VEVENT
DTSTART;VALUE=DATE:20260130
DTEND;VALUE=DATE:20260201
DTSTAMP:20260421T015920
CREATED:20250411T224017Z
LAST-MODIFIED:20260131T234132Z
UID:21808-1769731200-1769903999@www.coquitlamteachers.com
SUMMARY:BCTF Representative Assembly
DESCRIPTION:
URL:https://www.coquitlamteachers.com/event/bctf-representative-assembly-2/
LOCATION:BC
END:VEVENT
END:VCALENDAR