BEGIN:VCALENDAR
VERSION:2.0
PRODID:-//Coquitlam Teachers Association - ECPv6.15.15//NONSGML v1.0//EN
CALSCALE:GREGORIAN
METHOD:PUBLISH
X-WR-CALNAME:Coquitlam Teachers Association
X-ORIGINAL-URL:https://www.coquitlamteachers.com
X-WR-CALDESC:Events for Coquitlam Teachers Association
REFRESH-INTERVAL;VALUE=DURATION:PT1H
X-Robots-Tag:noindex
X-PUBLISHED-TTL:PT1H
BEGIN:VTIMEZONE
TZID:America/Vancouver
BEGIN:DAYLIGHT
TZOFFSETFROM:-0800
TZOFFSETTO:-0700
TZNAME:PDT
DTSTART:20250309T100000
END:DAYLIGHT
BEGIN:STANDARD
TZOFFSETFROM:-0700
TZOFFSETTO:-0800
TZNAME:PST
DTSTART:20251102T090000
END:STANDARD
BEGIN:DAYLIGHT
TZOFFSETFROM:-0800
TZOFFSETTO:-0700
TZNAME:PDT
DTSTART:20260308T100000
END:DAYLIGHT
BEGIN:STANDARD
TZOFFSETFROM:-0700
TZOFFSETTO:-0800
TZNAME:PST
DTSTART:20261101T090000
END:STANDARD
BEGIN:DAYLIGHT
TZOFFSETFROM:-0800
TZOFFSETTO:-0700
TZNAME:PDT
DTSTART:20270314T100000
END:DAYLIGHT
BEGIN:STANDARD
TZOFFSETFROM:-0700
TZOFFSETTO:-0800
TZNAME:PST
DTSTART:20271107T090000
END:STANDARD
END:VTIMEZONE
BEGIN:VEVENT
DTSTART;TZID=America/Vancouver:20260105T080000
DTEND;TZID=America/Vancouver:20260105T153000
DTSTAMP:20260421T032701
CREATED:20250411T225416Z
LAST-MODIFIED:20260131T235539Z
UID:21826-1767600000-1767627000@www.coquitlamteachers.com
SUMMARY:Schools reopen from Winter Break
DESCRIPTION:
URL:https://www.coquitlamteachers.com/event/schools-reopen-from-winter-break/
LOCATION:BC
END:VEVENT
END:VCALENDAR