BEGIN:VCALENDAR
VERSION:2.0
PRODID:-//Coquitlam Teachers Association - ECPv6.15.15//NONSGML v1.0//EN
CALSCALE:GREGORIAN
METHOD:PUBLISH
X-ORIGINAL-URL:https://www.coquitlamteachers.com
X-WR-CALDESC:Events for Coquitlam Teachers Association
REFRESH-INTERVAL;VALUE=DURATION:PT1H
X-Robots-Tag:noindex
X-PUBLISHED-TTL:PT1H
BEGIN:VTIMEZONE
TZID:America/Vancouver
BEGIN:DAYLIGHT
TZOFFSETFROM:-0800
TZOFFSETTO:-0700
TZNAME:PDT
DTSTART:20240310T100000
END:DAYLIGHT
BEGIN:STANDARD
TZOFFSETFROM:-0700
TZOFFSETTO:-0800
TZNAME:PST
DTSTART:20241103T090000
END:STANDARD
BEGIN:DAYLIGHT
TZOFFSETFROM:-0800
TZOFFSETTO:-0700
TZNAME:PDT
DTSTART:20250309T100000
END:DAYLIGHT
BEGIN:STANDARD
TZOFFSETFROM:-0700
TZOFFSETTO:-0800
TZNAME:PST
DTSTART:20251102T090000
END:STANDARD
BEGIN:DAYLIGHT
TZOFFSETFROM:-0800
TZOFFSETTO:-0700
TZNAME:PDT
DTSTART:20260308T100000
END:DAYLIGHT
BEGIN:STANDARD
TZOFFSETFROM:-0700
TZOFFSETTO:-0800
TZNAME:PST
DTSTART:20261101T090000
END:STANDARD
END:VTIMEZONE
BEGIN:VEVENT
DTSTART;TZID=America/Vancouver:20251112T083000
DTEND;TZID=America/Vancouver:20251113T143000
DTSTAMP:20260421T103043
CREATED:20250404T231622Z
LAST-MODIFIED:20260201T001725Z
UID:21846-1762936200-1763044200@www.coquitlamteachers.com
SUMMARY:Staff Rep Training (Session 1)
DESCRIPTION:
URL:https://www.coquitlamteachers.com/event/staff-rep-training-session-1/
LOCATION:CTA – big conference room\, #208-2502 St. Johns Street\, Port Moody\, BC\, V3H 2B4\, Canada
END:VEVENT
BEGIN:VEVENT
DTSTART;TZID=America/Vancouver:20251112T160000
DTEND;TZID=America/Vancouver:20251112T180000
DTSTAMP:20260421T103043
CREATED:20250404T231318Z
LAST-MODIFIED:20260201T001538Z
UID:21844-1762963200-1762970400@www.coquitlamteachers.com
SUMMARY:CTA Representative Assembly/ General Meeting
DESCRIPTION:
URL:https://www.coquitlamteachers.com/event/cta-representative-assembly-general-meeting-3/
LOCATION:Zoom Virtual Meeting\, 1100 Winslow Avenue\, Coquitlam\, BC\, V3J2G3\, Canada
END:VEVENT
END:VCALENDAR